BEGIN:VCALENDAR
VERSION:2.0
PRODID:-//Tukios.com/
BEGIN:VEVENT
UID:a917ae67-cfc6-42b2-a511-7c2ebca9e631@www.strongthorne.com
DTSTAMP:20260421T234655Z
DTSTART:20260427T193000Z
DTEND:20260427T203000Z
SUMMARY:Interment
DESCRIPTION:
URL:https://www.strongthorne.com/obituaries/david-wilkins
LOCATION: 501 N Guadalupe St  Santa Fe NM 87501
GEO:35.6963506;-105.9492183
END:VEVENT
END:VCALENDAR