BEGIN:VCALENDAR
VERSION:2.0
PRODID:-//Tukios.com/
BEGIN:VEVENT
UID:cf66fa14-2bbb-4ffd-8334-3bbe0563065b@www.strongthorne.com
DTSTAMP:20260423T210911Z
DTSTART:20260430T000000Z
DTEND:20260430T020000Z
SUMMARY:Visitation & Rosary
DESCRIPTION:
URL:https://www.strongthorne.com/obituaries/matthew-baker
LOCATION: 1100 Coal Ave SE  Albuquerque NM 87106
GEO:35.0780965;-106.6352453
END:VEVENT
END:VCALENDAR