BEGIN:VCALENDAR
VERSION:2.0
PRODID:-//Tukios.com/
BEGIN:VEVENT
UID:46942728-095a-47e7-ba92-6b83089ed114@www.strongthorne.com
DTSTAMP:20260423T210753Z
DTSTART:20260430T150000Z
DTEND:20260430T160000Z
SUMMARY:Funeral Service
DESCRIPTION:
URL:https://www.strongthorne.com/obituaries/matthew-baker
LOCATION: 820 Broadway Blvd SE  Albuquerque NM 87102
GEO:35.0747066;-106.6452029
END:VEVENT
END:VCALENDAR