BEGIN:VCALENDAR
VERSION:2.0
PRODID:-//Tukios.com/
BEGIN:VEVENT
UID:b6067a91-5e84-420e-8e7b-d10861781ff0@www.strongthorne.com
DTSTAMP:20260421T224540Z
DTSTART:20260422T230000Z
DTEND:20260423T030000Z
SUMMARY:Visitation
DESCRIPTION:
URL:https://www.strongthorne.com/obituaries/roberto-aguilar
LOCATION: 1100 Coal Ave SE  Albuquerque NM 87106
GEO:35.0780965;-106.6352453
END:VEVENT
END:VCALENDAR