BEGIN:VCALENDAR
VERSION:2.0
PRODID:-//Tukios.com/
BEGIN:VEVENT
UID:077fbafa-d7d9-4a85-8930-86dcf6aee2d6@www.strongthorne.com
DTSTAMP:20260421T224413Z
DTSTART:20260423T180000Z
DTEND:20260423T190000Z
SUMMARY:Funeral Service
DESCRIPTION:
URL:https://www.strongthorne.com/obituaries/roberto-aguilar
LOCATION: 2957 Arenal Rd SW  Albuquerque NM 87121
GEO:35.0541687;-106.7105643
END:VEVENT
END:VCALENDAR