BEGIN:VCALENDAR
VERSION:2.0
PRODID:-//Tukios.com/
BEGIN:VEVENT
UID:820778f9-f9f3-4f70-9a5f-294e621a25e3@www.strongthorne.com
DTSTAMP:20260421T224343Z
DTSTART:20260423T193000Z
DTEND:20260423T203000Z
SUMMARY:Interment
DESCRIPTION:
URL:https://www.strongthorne.com/obituaries/roberto-aguilar
LOCATION: 924 Menaul Blvd NE  Albuquerque NM 87107
GEO:35.1077324;-106.6328375
END:VEVENT
END:VCALENDAR